BEGIN:VCALENDAR
METHOD:PUBLISH
VERSION:2.0
CALSCALE:GREGORIAN
PRODID:-//NONSGML WPForms//NONSGML Sugar Calendar Feeds v3.10.0//EN
X-WR-CALNAME:D5 President Mtg
X-WR-CALDESC:Michigan Garden Clubs\, Inc.
X-WR-TIMEZONE:America/Detroit
BEGIN:VTIMEZONE
TZID:America/Detroit
BEGIN:STANDARD
TZOFFSETFROM:-0400
TZOFFSETTO:-0500
DTSTART:20241103T060000
TZNAME:EST
END:STANDARD
END:VTIMEZONE
BEGIN:VTIMEZONE
TZID:America/Detroit
BEGIN:STANDARD
TZOFFSETFROM:-0400
TZOFFSETTO:-0500
DTSTART:20241103T060000
TZNAME:EST
END:STANDARD
END:VTIMEZONE
BEGIN:VEVENT
SUMMARY:D5 President Mtg
DESCRIPTION:Club Presidents meet for updates and discussion
URL;VALUE=URI:https://migardenclubs.org/events/d5-president-mtg/
UID:urn:uuid:4e4ac01a-601e-47b8-b8bc-3325a9cc7bc7
STATUS:CONFIRMED
ORGANIZER:
DTSTAMP:20260424T125521Z
DTSTART;TZID=America/Detroit:20250121T100000
DTEND;TZID=America/Detroit:20250121T110000
LOCATION:Zoom Meeting
END:VEVENT
END:VCALENDAR