BEGIN:VCALENDAR
METHOD:PUBLISH
VERSION:2.0
CALSCALE:GREGORIAN
PRODID:-//NONSGML WPForms//NONSGML Sugar Calendar Feeds v3.10.0//EN
X-WR-CALNAME:Gardening School\, Course 1
X-WR-CALDESC:Michigan Garden Clubs\, Inc.
X-WR-TIMEZONE:America/Detroit
BEGIN:VTIMEZONE
TZID:America/Detroit
BEGIN:STANDARD
TZOFFSETFROM:-0400
TZOFFSETTO:-0500
DTSTART:20241103T060000
TZNAME:EST
END:STANDARD
BEGIN:DAYLIGHT
TZOFFSETFROM:-0500
TZOFFSETTO:-0400
DTSTART:20250309T070000
TZNAME:EDT
END:DAYLIGHT
END:VTIMEZONE
BEGIN:VTIMEZONE
TZID:America/Detroit
BEGIN:STANDARD
TZOFFSETFROM:-0400
TZOFFSETTO:-0500
DTSTART:20241103T060000
TZNAME:EST
END:STANDARD
BEGIN:DAYLIGHT
TZOFFSETFROM:-0500
TZOFFSETTO:-0400
DTSTART:20250309T070000
TZNAME:EDT
END:DAYLIGHT
END:VTIMEZONE
BEGIN:VEVENT
SUMMARY:Gardening School\, Course 1
DESCRIPTION:Hosted by River Valley Garden Club Inc.\nInfo: evpalulis@yah
 oo.com
URL;VALUE=URI:https://migardenclubs.org/events/gardening-school-course-1
 /
UID:urn:uuid:3dfd7564-c103-4dc6-ba02-b0fdc207474b
STATUS:CONFIRMED
ORGANIZER:
DTSTAMP:20260424T071017Z
DTSTART;TZID=America/Detroit:20250328T084500
DTEND;TZID=America/Detroit:20250328T160000
LOCATION:Harbert Community Church\, 6444 Harbert Road\, Sawyer\, MI 4912
 5
END:VEVENT
END:VCALENDAR