BEGIN:VCALENDAR
METHOD:PUBLISH
VERSION:2.0
CALSCALE:GREGORIAN
PRODID:-//NONSGML WPForms//NONSGML Sugar Calendar Feeds v3.10.0//EN
X-WR-CALNAME:Holland Garden Club's Flower Show: Windmills &amp\; Wooden 
 Shoes
X-WR-CALDESC:Michigan Garden Clubs\, Inc.
X-WR-TIMEZONE:America/Detroit
BEGIN:VTIMEZONE
TZID:America/Detroit
BEGIN:DAYLIGHT
TZOFFSETFROM:-0500
TZOFFSETTO:-0400
DTSTART:20260308T070000
TZNAME:EDT
END:DAYLIGHT
END:VTIMEZONE
BEGIN:VTIMEZONE
TZID:America/Detroit
BEGIN:DAYLIGHT
TZOFFSETFROM:-0500
TZOFFSETTO:-0400
DTSTART:20260308T070000
TZNAME:EDT
END:DAYLIGHT
END:VTIMEZONE
BEGIN:VEVENT
SUMMARY:Holland Garden Club's Flower Show: Windmills &amp\; Wooden Shoes
DESCRIPTION:Holland Garden Club invites all to the free Standard Flower 
 Show held during Tulip Time at the Holland Armory. This year's theme\, W
 indmills &amp\; Wooden Shoes\, is chosen to celebrate Dutch culture. Flo
 ral designs will interpret this theme in many different categories and b
 otanical creations. Amateur photographers are also competing with landsc
 ape and micro photos. Visitors will see spring blooming flowers and bran
 ches from shrubs and ornamental trees submitted by local gardeners into 
 the horticultural division of the show.\nTuesday\, May 5\, 3pm-6pmWednes
 day\, May 6\, 10am-6pmThursday\, May 7\, 10am-6pm Friday\, May 8\, 10am-
 6pm\nFor more information\, see Events on the Holland Garden Club's webs
 ite:https://hollandgardenclub.org
URL;VALUE=URI:https://migardenclubs.org/events/holland-garden-clubs-flow
 er-show-windmills-wooden-shoes/
UID:urn:uuid:1b5c26b9-7586-435b-be2e-3b3ffedc1713
STATUS:CONFIRMED
ORGANIZER:
DTSTAMP:20260423T090417Z
DTSTART;TZID=America/Detroit:20260505T100000
DTEND;TZID=America/Detroit:20260508T180000
LOCATION:Holland Armory\, 16 W. 9th Street\, Holland\, MI
END:VEVENT
END:VCALENDAR