BEGIN:VCALENDAR
METHOD:PUBLISH
VERSION:2.0
CALSCALE:GREGORIAN
PRODID:-//NONSGML WPForms//NONSGML Sugar Calendar Feeds v3.10.0//EN
X-WR-CALNAME:Parks of Greater Lansing Flower Show
X-WR-CALDESC:Michigan Garden Clubs\, Inc.
X-WR-TIMEZONE:America/Detroit
BEGIN:VTIMEZONE
TZID:America/Detroit
BEGIN:DAYLIGHT
TZOFFSETFROM:-0500
TZOFFSETTO:-0400
DTSTART:20260308T070000
TZNAME:EDT
END:DAYLIGHT
END:VTIMEZONE
BEGIN:VTIMEZONE
TZID:America/Detroit
BEGIN:DAYLIGHT
TZOFFSETFROM:-0500
TZOFFSETTO:-0400
DTSTART:20260308T070000
TZNAME:EDT
END:DAYLIGHT
END:VTIMEZONE
BEGIN:VEVENT
SUMMARY:Parks of Greater Lansing Flower Show
DESCRIPTION:The Garden Club of Greater Lansing (GCGL) will be hosting a 
 small standard flower show on the theme of Parks of Greater Lansing. The
  show includes awarded divisions in Horticulture\, Design\, Photography\
 , and Educational Exhibits.\n\nFriday\, July 10\, 2026: Judging 9 AM -12
  NOON\nFriday\, July 10\, 2026: Open to the public 12 NOON - 5 PM\nSatur
 day\, July 11\, 2026: Open to the public 10 AM - 2 PM
URL;VALUE=URI:https://migardenclubs.org/events/parks-of-greater-lansing-
 flower-show/
UID:urn:uuid:a46d780a-dc36-4d2f-b809-243100398dfe
STATUS:CONFIRMED
ORGANIZER:
DTSTAMP:20260424T170724Z
DTSTART;TZID=America/Detroit:20260710T090000
DTEND;TZID=America/Detroit:20260711T170000
LOCATION:MSU Federal Credit Union\, 3777 West Rd\, East Lansing\, MI 488
 23
END:VEVENT
END:VCALENDAR