BEGIN:VCALENDAR
METHOD:PUBLISH
VERSION:2.0
CALSCALE:GREGORIAN
PRODID:-//NONSGML WPForms//NONSGML Sugar Calendar Feeds v3.10.0//EN
X-WR-CALNAME:Saline Stone and Thistle Plant Sale
X-WR-CALDESC:Michigan Garden Clubs\, Inc.
X-WR-TIMEZONE:America/Detroit
BEGIN:VTIMEZONE
TZID:America/Detroit
BEGIN:DAYLIGHT
TZOFFSETFROM:-0500
TZOFFSETTO:-0400
DTSTART:20260308T070000
TZNAME:EDT
END:DAYLIGHT
END:VTIMEZONE
BEGIN:VTIMEZONE
TZID:America/Detroit
BEGIN:DAYLIGHT
TZOFFSETFROM:-0500
TZOFFSETTO:-0400
DTSTART:20260308T070000
TZNAME:EDT
END:DAYLIGHT
END:VTIMEZONE
BEGIN:VEVENT
SUMMARY:Saline Stone and Thistle Plant Sale
DESCRIPTION:Join us for our annual perennial and plant sale.  Come shop 
 for some great deals on plants from our own homes and gardens. Additiona
 lly\, our master gardeners will be onsite to answer questions and provid
 e advice on planting and maintenance.
URL;VALUE=URI:https://migardenclubs.org/events/saline-stone-and-thistle-
 plant-sale/
UID:urn:uuid:a49ab723-6f5c-4be3-b82f-6d9d7b3c1d0f
STATUS:CONFIRMED
ORGANIZER:
DTSTAMP:20260420T131053Z
DTSTART;TZID=America/Detroit:20260516T080000
DTEND;TZID=America/Detroit:20260516T100000
LOCATION:Saline District Library\, 555 N. Maple St\, Saline\, MI
END:VEVENT
END:VCALENDAR