BEGIN:VCALENDAR
METHOD:PUBLISH
VERSION:2.0
CALSCALE:GREGORIAN
PRODID:-//NONSGML WPForms//NONSGML Sugar Calendar Feeds v3.10.0//EN
X-WR-CALNAME:Shoreline Garden Club's 28th Annual Plant Sale
X-WR-CALDESC:Michigan Garden Clubs\, Inc.
X-WR-TIMEZONE:America/Detroit
BEGIN:VTIMEZONE
TZID:America/Detroit
BEGIN:DAYLIGHT
TZOFFSETFROM:-0500
TZOFFSETTO:-0400
DTSTART:20260308T070000
TZNAME:EDT
END:DAYLIGHT
END:VTIMEZONE
BEGIN:VTIMEZONE
TZID:America/Detroit
BEGIN:DAYLIGHT
TZOFFSETFROM:-0500
TZOFFSETTO:-0400
DTSTART:20260308T070000
TZNAME:EDT
END:DAYLIGHT
END:VTIMEZONE
BEGIN:VEVENT
SUMMARY:Shoreline Garden Club's 28th Annual Plant Sale
DESCRIPTION:•	Homegrown Michigan Perennials\n•	Trees &amp\; Shrubs\n
 •	Vegetable and Herb Plants\n•	Garden Themed Flea Market\n\nMaster G
 ardeners available to assist and inform!\nShoreline Garden Club is a mem
 ber of the Michigan Garden Clubs\, Inc.  Talk to a member about visiting
  and/or joining the club.
URL;VALUE=URI:https://migardenclubs.org/events/shoreline-garden-clubs-28
 th-annual-plant-sale/
UID:urn:uuid:7d12aa59-d2a2-4c46-8483-d149a021395c
STATUS:CONFIRMED
ORGANIZER:
DTSTAMP:20260420T130102Z
DTSTART;TZID=America/Detroit:20260509T090000
DTEND;TZID=America/Detroit:20260509T120000
LOCATION:Lakeshore High School\, North Parking Lot\, corner of Cleveland
  Avenue and John Beers Road\, Stevensville\, MI.
END:VEVENT
END:VCALENDAR