BEGIN:VCALENDAR
METHOD:PUBLISH
VERSION:2.0
CALSCALE:GREGORIAN
PRODID:-//NONSGML WPForms//NONSGML Sugar Calendar Feeds v3.10.0//EN
X-WR-CALNAME:Spring Forward\, District 1 Leadership Conference
X-WR-CALDESC:Michigan Garden Clubs\, Inc.
X-WR-TIMEZONE:America/Detroit
BEGIN:VTIMEZONE
TZID:America/Detroit
BEGIN:STANDARD
TZOFFSETFROM:-0400
TZOFFSETTO:-0500
DTSTART:20231105T060000
TZNAME:EST
END:STANDARD
BEGIN:DAYLIGHT
TZOFFSETFROM:-0500
TZOFFSETTO:-0400
DTSTART:20240310T070000
TZNAME:EDT
END:DAYLIGHT
END:VTIMEZONE
BEGIN:VTIMEZONE
TZID:America/Detroit
BEGIN:STANDARD
TZOFFSETFROM:-0400
TZOFFSETTO:-0500
DTSTART:20231105T060000
TZNAME:EST
END:STANDARD
BEGIN:DAYLIGHT
TZOFFSETFROM:-0500
TZOFFSETTO:-0400
DTSTART:20240310T070000
TZNAME:EDT
END:DAYLIGHT
END:VTIMEZONE
BEGIN:VEVENT
SUMMARY:Spring Forward\, District 1 Leadership Conference
DESCRIPTION:The Leadership team and all interested members are invited t
 o attend the  Morning District 1 Leadership Conference in Pleasant Ridg
 e.
URL;VALUE=URI:https://migardenclubs.org/events/spring-forward-district-1
 -leadership-conference/
UID:urn:uuid:5022b46c-fc5a-431b-b026-3e5f0a95c1f0
STATUS:CONFIRMED
ORGANIZER:
DTSTAMP:20260424T062810Z
DTSTART;TZID=America/Detroit:20240424T093000
DTEND;TZID=America/Detroit:20240424T130000
LOCATION:Pleasant Ridge Community Center\, 4 Ridge Rd\,\, Pleasant Ridge
 \, Michigan\, 48069
END:VEVENT
END:VCALENDAR